BEGIN:VCALENDAR
VERSION:2.0
PRODID:-//Urtrack - ECPv6.15.12.2//NONSGML v1.0//EN
CALSCALE:GREGORIAN
METHOD:PUBLISH
X-WR-CALNAME:Urtrack
X-ORIGINAL-URL:https://www.urtrack.net
X-WR-CALDESC:Events for Urtrack
REFRESH-INTERVAL;VALUE=DURATION:PT1H
X-Robots-Tag:noindex
X-PUBLISHED-TTL:PT1H
BEGIN:VTIMEZONE
TZID:UTC
BEGIN:STANDARD
TZOFFSETFROM:+0000
TZOFFSETTO:+0000
TZNAME:UTC
DTSTART:20250101T000000
END:STANDARD
END:VTIMEZONE
BEGIN:VEVENT
DTSTART;TZID=UTC:20260424T200000
DTEND;TZID=UTC:20260424T230000
DTSTAMP:20260424T012851
CREATED:20251231T120203Z
LAST-MODIFIED:20251231T120204Z
UID:821-1777060800-1777071600@www.urtrack.net
SUMMARY:Scaleauto / Go-Karts
DESCRIPTION:
URL:https://www.urtrack.net/event/scaleauto-go-karts-2/
LOCATION:Urtrack\, Kampsstraat 1\, Urmond\, Netherlands
END:VEVENT
END:VCALENDAR