BEGIN:VCALENDAR
VERSION:2.0
PRODID:-//Urtrack - ECPv6.15.12.2//NONSGML v1.0//EN
CALSCALE:GREGORIAN
METHOD:PUBLISH
X-WR-CALNAME:Urtrack
X-ORIGINAL-URL:https://www.urtrack.net
X-WR-CALDESC:Events for Urtrack
REFRESH-INTERVAL;VALUE=DURATION:PT1H
X-Robots-Tag:noindex
X-PUBLISHED-TTL:PT1H
BEGIN:VTIMEZONE
TZID:UTC
BEGIN:STANDARD
TZOFFSETFROM:+0000
TZOFFSETTO:+0000
TZNAME:UTC
DTSTART:20230101T000000
END:STANDARD
END:VTIMEZONE
BEGIN:VEVENT
DTSTART;TZID=UTC:20240209T210000
DTEND;TZID=UTC:20240209T220000
DTSTAMP:20260423T185346
CREATED:20231222T171924Z
LAST-MODIFIED:20231222T171925Z
UID:351-1707512400-1707516000@www.urtrack.net
SUMMARY:ULMS Sprint
DESCRIPTION:
URL:https://www.urtrack.net/event/ulms-sprint-13/
LOCATION:Urtrack\, Kampsstraat 1\, Urmond\, Netherlands
END:VEVENT
BEGIN:VEVENT
DTSTART;TZID=UTC:20240216T210000
DTEND;TZID=UTC:20240216T230000
DTSTAMP:20260423T185346
CREATED:20231222T172044Z
LAST-MODIFIED:20231222T172045Z
UID:355-1708117200-1708124400@www.urtrack.net
SUMMARY:ULMS Endurance night race
DESCRIPTION:
URL:https://www.urtrack.net/event/ulms-endurance-night-race-2/
LOCATION:Urtrack\, Kampsstraat 1\, Urmond\, Netherlands
END:VEVENT
BEGIN:VEVENT
DTSTART;TZID=UTC:20240223T210000
DTEND;TZID=UTC:20240223T220000
DTSTAMP:20260423T185346
CREATED:20231222T172202Z
LAST-MODIFIED:20231222T172203Z
UID:357-1708722000-1708725600@www.urtrack.net
SUMMARY:ULMS Sprint
DESCRIPTION:
URL:https://www.urtrack.net/event/ulms-sprint-14/
LOCATION:Urtrack\, Kampsstraat 1\, Urmond\, Netherlands
END:VEVENT
END:VCALENDAR