BEGIN:VCALENDAR
VERSION:2.0
PRODID:-//Urtrack - ECPv6.15.12.2//NONSGML v1.0//EN
CALSCALE:GREGORIAN
METHOD:PUBLISH
X-WR-CALNAME:Urtrack
X-ORIGINAL-URL:https://www.urtrack.net
X-WR-CALDESC:Events for Urtrack
REFRESH-INTERVAL;VALUE=DURATION:PT1H
X-Robots-Tag:noindex
X-PUBLISHED-TTL:PT1H
BEGIN:VTIMEZONE
TZID:UTC
BEGIN:STANDARD
TZOFFSETFROM:+0000
TZOFFSETTO:+0000
TZNAME:UTC
DTSTART:20220101T000000
END:STANDARD
END:VTIMEZONE
BEGIN:VEVENT
DTSTART;TZID=UTC:20231222T210000
DTEND;TZID=UTC:20231222T223000
DTSTAMP:20260423T231112
CREATED:20230929T141014Z
LAST-MODIFIED:20230929T141126Z
UID:302-1703278800-1703284200@www.urtrack.net
SUMMARY:ULMS Endurance nachtrace
DESCRIPTION:
URL:https://www.urtrack.net/event/ulms-endurance-nacht/
LOCATION:Urtrack\, Kampsstraat 1\, Urmond\, Netherlands
END:VEVENT
END:VCALENDAR